BEGIN:VCALENDAR
VERSION:2.0
PRODID:-//Plone.org//NONSGML plone.app.event//EN
X-WR-TIMEZONE:US/Central
BEGIN:VEVENT
SUMMARY:AR Testing @ HPL
DTSTART;TZID=US/Central:20230822T153000
DTEND;TZID=US/Central:20230822T174500
DTSTAMP:20260423T153956Z
UID:da72cc709f2542fc83ccd3e6db7fb4a3@saas_stack_varnish:6080
RRULE:FREQ=WEEKLY;UNTIL=20231215T000000;BYDAY=TU,WE,TH,FR
EXDATE;TZID=US/Central:20230901T000000,20231122T000000,20231123T000000,202
 31124T000000
CREATED:20230912T154333Z
DESCRIPTION:AR Testing is available for Ann Whitney Elementary and Hamilto
 n Junior High students from 3:30 PM to 5:45 PM every Tuesday through Frida
 y. All testing will be monitored by trained staff and volunteers.
LAST-MODIFIED:20251030T193800Z
URL:https://hamilton.ploud.net/lib-cal/ar-testing-hpl-1
END:VEVENT
BEGIN:VTIMEZONE
TZID:US/Central
X-LIC-LOCATION:US/Central
BEGIN:DAYLIGHT
DTSTART:20230312T030000
TZNAME:CDT
TZOFFSETFROM:-0600
TZOFFSETTO:-0500
END:DAYLIGHT
END:VTIMEZONE
END:VCALENDAR
