BEGIN:VCALENDAR
VERSION:2.0
PRODID:-//Plone.org//NONSGML plone.app.event//EN
X-WR-TIMEZONE:US/Central
BEGIN:VEVENT
SUMMARY:Book Club at the Library
DTSTART;TZID=US/Central:20221004T183000
DTEND;TZID=US/Central:20221004T193000
DTSTAMP:20260421T091419Z
UID:ab195ea80ed948fc84d2b9df2e1d2748@saas_stack_varnish:6080
CREATED:20220913T171757Z
DESCRIPTION:Join us Tuesday\, October 4th @ 6:30PM to discuss our latest r
 ead! Everyone is welcome. This month's book: The Seven Husbands of Evelyn 
 Hugo by Taylor Jenkins Reid.
LAST-MODIFIED:20251030T193751Z
LOCATION:Teague Conference Center
URL:https://hamilton.ploud.net/lib-cal/book-club-at-the-library-1
END:VEVENT
BEGIN:VTIMEZONE
TZID:US/Central
X-LIC-LOCATION:US/Central
BEGIN:DAYLIGHT
DTSTART:20220313T030000
TZNAME:CDT
TZOFFSETFROM:-0600
TZOFFSETTO:-0500
END:DAYLIGHT
END:VTIMEZONE
END:VCALENDAR
