BEGIN:VCALENDAR
VERSION:2.0
PRODID:-//Plone.org//NONSGML plone.app.event//EN
X-WR-TIMEZONE:US/Central
BEGIN:VEVENT
SUMMARY:Book Club at the Library
DTSTART;TZID=US/Central:20240130T170000
DTEND;TZID=US/Central:20240130T180000
DTSTAMP:20260426T002328Z
UID:702969892b9846e8b927a879fbddc73e@saas_stack_varnish:6080
RRULE:FREQ=MONTHLY;COUNT=3;BYDAY=-1TU
CREATED:20231206T151153Z
DESCRIPTION:HPL Book Club meets the Last Tuesday of the month. Book Club i
 s led by Brittany Davis.
LAST-MODIFIED:20251030T193801Z
LOCATION:Teague Conference Center
URL:https://hamilton.ploud.net/lib-cal/book-club-at-the-library-10
END:VEVENT
BEGIN:VTIMEZONE
TZID:US/Central
X-LIC-LOCATION:US/Central
BEGIN:STANDARD
DTSTART:20231105T010000
TZNAME:CST
TZOFFSETFROM:-0500
TZOFFSETTO:-0600
END:STANDARD
END:VTIMEZONE
END:VCALENDAR
