BEGIN:VCALENDAR
VERSION:2.0
PRODID:-//Plone.org//NONSGML plone.app.event//EN
X-WR-TIMEZONE:US/Central
BEGIN:VEVENT
SUMMARY:Book Club at the Library
DTSTART;TZID=US/Central:20230627T150000
DTEND;TZID=US/Central:20230627T160000
DTSTAMP:20260423T115100Z
UID:06c6eea911214fb6853ca36e0aaae84b@saas_stack_varnish:6080
CREATED:20230504T203543Z
DESCRIPTION:Join us to discuss this month's read! June 27\, 2023 @ 6:00 PM
 . June's book: French Braid by Anne Tyler. The HPL Book Club is led by Bri
 ttany Davis.
LAST-MODIFIED:20251030T193755Z
LOCATION:Teague Conference Center
URL:https://hamilton.ploud.net/lib-cal/book-club-at-the-library-6
END:VEVENT
BEGIN:VTIMEZONE
TZID:US/Central
X-LIC-LOCATION:US/Central
BEGIN:DAYLIGHT
DTSTART:20230312T030000
TZNAME:CDT
TZOFFSETFROM:-0600
TZOFFSETTO:-0500
END:DAYLIGHT
END:VTIMEZONE
END:VCALENDAR
