BEGIN:VCALENDAR
VERSION:2.0
PRODID:-//Plone.org//NONSGML plone.app.event//EN
X-WR-TIMEZONE:US/Central
BEGIN:VEVENT
SUMMARY:Book Club at the Library
DTSTART;TZID=US/Central:20230725T150000
DTEND;TZID=US/Central:20230725T160000
DTSTAMP:20260423T163600Z
UID:181855c494dc43eebefa386a24440725@saas_stack_varnish:6080
CREATED:20230504T203942Z
DESCRIPTION:Join us to discuss this month's read! July 25\, 2023 @ 6:00 PM
 . July's book: Sea of Tranquility by Emily St. John Mandel. The HPL Book C
 lub is led by Brittany Davis.
LAST-MODIFIED:20251030T193756Z
URL:https://hamilton.ploud.net/lib-cal/book-club-at-the-library-7
END:VEVENT
BEGIN:VTIMEZONE
TZID:US/Central
X-LIC-LOCATION:US/Central
BEGIN:DAYLIGHT
DTSTART:20230312T030000
TZNAME:CDT
TZOFFSETFROM:-0600
TZOFFSETTO:-0500
END:DAYLIGHT
END:VTIMEZONE
END:VCALENDAR
