BEGIN:VCALENDAR
VERSION:2.0
PRODID:-//Plone.org//NONSGML plone.app.event//EN
X-WR-TIMEZONE:US/Central
BEGIN:VEVENT
SUMMARY:Christmas Party
DTSTART;TZID=US/Central:20231220T150000
DTEND;TZID=US/Central:20231220T180000
DTSTAMP:20260426T032055Z
UID:c5074aa2e66648a28da23f64442ae6f2@saas_stack_varnish:6080
CREATED:20231212T202836Z
DESCRIPTION:You're invited to the Hamiton Public Library to share in some 
 holiday cheer and treats to celebrate this special time of year! Come & Go
 . December 20th. 3 pm - 6 pm.
LAST-MODIFIED:20251030T193801Z
URL:https://hamilton.ploud.net/lib-cal/christmas-party
END:VEVENT
BEGIN:VTIMEZONE
TZID:US/Central
X-LIC-LOCATION:US/Central
BEGIN:STANDARD
DTSTART:20231105T010000
TZNAME:CST
TZOFFSETFROM:-0500
TZOFFSETTO:-0600
END:STANDARD
END:VTIMEZONE
END:VCALENDAR
