BEGIN:VCALENDAR
VERSION:2.0
PRODID:-//Plone.org//NONSGML plone.app.event//EN
X-WR-TIMEZONE:US/Central
BEGIN:VEVENT
SUMMARY:Closed for Easter
DTSTART;VALUE=DATE:20240329
DTEND;VALUE=DATE:20240330
DTSTAMP:20260425T161602Z
UID:957697e55e2b432d9d0dde2e2194c047@saas_stack_varnish:6080
CREATED:20240305T191822Z
DESCRIPTION:The Library will be closed Friday - Monday in observance of Ea
 ster.
LAST-MODIFIED:20251030T193801Z
URL:https://hamilton.ploud.net/lib-cal/closed-for-easter-3
END:VEVENT
END:VCALENDAR
