BEGIN:VCALENDAR
VERSION:2.0
PRODID:-//Plone.org//NONSGML plone.app.event//EN
X-WR-TIMEZONE:US/Central
BEGIN:VEVENT
SUMMARY:Closed for Independence Day
DTSTART;VALUE=DATE:20240704
DTEND;VALUE=DATE:20240705
DTSTAMP:20260421T083007Z
UID:11481a99d6b94a868eca562d8317eafd@saas_stack_varnish:6080
RRULE:FREQ=DAILY;COUNT=2
CREATED:20240418T184419Z
DESCRIPTION:The library will be closed on July 4th & 5th for Independence 
 Day. Have a safe holiday!
LAST-MODIFIED:20251030T193802Z
URL:https://hamilton.ploud.net/lib-cal/closed-for-independence-day-3
END:VEVENT
END:VCALENDAR
