BEGIN:VCALENDAR
VERSION:2.0
PRODID:-//Plone.org//NONSGML plone.app.event//EN
X-WR-TIMEZONE:US/Central
BEGIN:VEVENT
SUMMARY:Closed for Memorial Day Weekend
DTSTART;VALUE=DATE:20240524
DTEND;VALUE=DATE:20240525
DTSTAMP:20260419T181415Z
UID:13d7f18dc4094c9eac0530c4d3da257f@saas_stack_varnish:6080
CREATED:20240523T212009Z
DESCRIPTION:The Hamilton Public Library will be CLOSED this Friday\, May 2
 4th. Stay safe this Memorial Day weekend and enjoy time with your loved on
 es.
LAST-MODIFIED:20251030T193802Z
URL:https://hamilton.ploud.net/lib-cal/closed-for-memorial-day-weekend
END:VEVENT
END:VCALENDAR
