BEGIN:VCALENDAR
VERSION:2.0
PRODID:-//Plone.org//NONSGML plone.app.event//EN
X-WR-TIMEZONE:US/Central
BEGIN:VEVENT
SUMMARY:Come on a Tour of Uganda
DTSTART;TZID=US/Central:20240319T130000
DTEND;TZID=US/Central:20240319T143000
DTSTAMP:20260425T173816Z
UID:155c8c8984ef4afa89fd4ac28d385e8e@saas_stack_varnish:6080
CREATED:20240314T143037Z
DESCRIPTION:March 19th at 1:00 PM. Open to the public. Presented by the Po
 ttsville Extension Education Club at the Hamilton Public Library
LAST-MODIFIED:20251030T193801Z
LOCATION:Teague Conference Center
URL:https://hamilton.ploud.net/lib-cal/come-on-a-tour-of-uganda
END:VEVENT
BEGIN:VTIMEZONE
TZID:US/Central
X-LIC-LOCATION:US/Central
BEGIN:DAYLIGHT
DTSTART:20240310T030000
TZNAME:CDT
TZOFFSETFROM:-0600
TZOFFSETTO:-0500
END:DAYLIGHT
END:VTIMEZONE
END:VCALENDAR
