BEGIN:VCALENDAR
VERSION:2.0
PRODID:-//Plone.org//NONSGML plone.app.event//EN
X-WR-TIMEZONE:US/Central
BEGIN:VEVENT
SUMMARY:Book Club at the Library
DTSTART;TZID=US/Central:20230425T180000
DTEND;TZID=US/Central:20230425T190000
DTSTAMP:20260421T114536Z
UID:5682f8180a7a431e843c3ef830b5e5a7@saas_stack_varnish:6080
CREATED:20230207T183806Z
DESCRIPTION:Join us to discuss this month's read! April 25\, 2023 @ 6:00 P
 M. April's book: The Dictionary of Lost Words by Pip Williams. The HPL Boo
 k Club is led by Brittany Davis.
LAST-MODIFIED:20251030T193755Z
LOCATION:Teague Conference Center
URL:https://hamilton.ploud.net/lib-cal/copy2_of_book-club-at-the-library-5
END:VEVENT
BEGIN:VTIMEZONE
TZID:US/Central
X-LIC-LOCATION:US/Central
BEGIN:DAYLIGHT
DTSTART:20230312T030000
TZNAME:CDT
TZOFFSETFROM:-0600
TZOFFSETTO:-0500
END:DAYLIGHT
END:VTIMEZONE
END:VCALENDAR
