BEGIN:VCALENDAR
VERSION:2.0
PRODID:-//Plone.org//NONSGML plone.app.event//EN
X-WR-TIMEZONE:US/Central
BEGIN:VEVENT
SUMMARY:Yoga @ the Library
DTSTART;TZID=US/Central:20230523T090000
DTEND;TZID=US/Central:20230523T100000
DTSTAMP:20260421T181223Z
UID:756209da68a241e499d5789b62f15e7f@saas_stack_varnish:6080
RRULE:FREQ=WEEKLY;UNTIL=20231005T000000;BYDAY=TU,TH
EXDATE;TZID=US/Central:20230202T000000,20230620T000000,20230622T000000,202
 30704T000000,20230803T000000,20231123T000000
CREATED:20211202T004657Z
DESCRIPTION:We're Adding Yoga Classes! Now Tuesdays & Thursdays @ 9 AM. Br
 ing your own mat! No appointment or fees required.
LAST-MODIFIED:20251030T193756Z
LOCATION:Teague Conference Center
URL:https://hamilton.ploud.net/lib-cal/copy2_of_yoga-at-the-library
END:VEVENT
BEGIN:VTIMEZONE
TZID:US/Central
X-LIC-LOCATION:US/Central
BEGIN:DAYLIGHT
DTSTART:20230312T030000
TZNAME:CDT
TZOFFSETFROM:-0600
TZOFFSETTO:-0500
END:DAYLIGHT
END:VTIMEZONE
END:VCALENDAR
