BEGIN:VCALENDAR
VERSION:2.0
PRODID:-//Plone.org//NONSGML plone.app.event//EN
X-WR-TIMEZONE:US/Central
BEGIN:VEVENT
SUMMARY:Book Club at the Library
DTSTART;TZID=US/Central:20230530T180000
DTEND;TZID=US/Central:20230530T190000
DTSTAMP:20260421T163644Z
UID:b6a8fca1e1e847c8b53ab9089ec8d1ef@saas_stack_varnish:6080
CREATED:20230207T183806Z
DESCRIPTION:Join us to discuss this month's read! May 30\, 2023 @ 6:00 PM.
  May's book: Tiny Beautiful Things by Cheryl Strayed. The HPL Book Club is
  led by Brittany Davis.
LAST-MODIFIED:20251030T193755Z
LOCATION:Teague Conference Center
URL:https://hamilton.ploud.net/lib-cal/copy3_of_book-club-at-the-library-5
END:VEVENT
BEGIN:VTIMEZONE
TZID:US/Central
X-LIC-LOCATION:US/Central
BEGIN:DAYLIGHT
DTSTART:20230312T030000
TZNAME:CDT
TZOFFSETFROM:-0600
TZOFFSETTO:-0500
END:DAYLIGHT
END:VTIMEZONE
END:VCALENDAR
