BEGIN:VCALENDAR
VERSION:2.0
PRODID:-//Plone.org//NONSGML plone.app.event//EN
X-WR-TIMEZONE:US/Central
BEGIN:VEVENT
SUMMARY:Yoga @ the Library
DTSTART;TZID=US/Central:20240123T090000
DTEND;TZID=US/Central:20240123T100000
DTSTAMP:20260426T003724Z
UID:66859e96f6b542e4b8cd6c8c245a336f@saas_stack_varnish:6080
CREATED:20211202T004657Z
DESCRIPTION:Come Join Our Yoga Classes! It's free! Tuesdays & Thursdays @ 
 9 AM. Bring your own mat!
LAST-MODIFIED:20251030T193800Z
LOCATION:Teague Conference Center
URL:https://hamilton.ploud.net/lib-cal/copy3_of_yoga-at-the-library/2024-0
 1-23
END:VEVENT
BEGIN:VTIMEZONE
TZID:US/Central
X-LIC-LOCATION:US/Central
BEGIN:STANDARD
DTSTART:20231105T010000
TZNAME:CST
TZOFFSETFROM:-0500
TZOFFSETTO:-0600
END:STANDARD
END:VTIMEZONE
END:VCALENDAR
