BEGIN:VCALENDAR
VERSION:2.0
PRODID:-//Plone.org//NONSGML plone.app.event//EN
X-WR-TIMEZONE:US/Central
BEGIN:VEVENT
SUMMARY:Friends of the Library Meeting
DTSTART;TZID=US/Central:20221027T170000
DTEND;TZID=US/Central:20221027T180000
DTSTAMP:20260421T114826Z
UID:fa2c2cf0cf1d4e1d9c6c7772ad9efc8f@saas_stack_varnish:6080
CREATED:20220408T191537Z
DESCRIPTION:You're Invited to Join The Friends of the Library! Come Join t
 he FUN with the Friends of the Library!
LAST-MODIFIED:20251030T193752Z
LOCATION:Teague Conference Center
URL:https://hamilton.ploud.net/lib-cal/copy5_of_friends-of-the-library-mee
 ting
END:VEVENT
BEGIN:VTIMEZONE
TZID:US/Central
X-LIC-LOCATION:US/Central
BEGIN:DAYLIGHT
DTSTART:20220313T030000
TZNAME:CDT
TZOFFSETFROM:-0600
TZOFFSETTO:-0500
END:DAYLIGHT
END:VTIMEZONE
END:VCALENDAR
