BEGIN:VCALENDAR
VERSION:2.0
PRODID:-//Plone.org//NONSGML plone.app.event//EN
X-WR-TIMEZONE:US/Central
BEGIN:VEVENT
SUMMARY:AR Testing After School @ HPL
DTSTART;TZID=US/Central:20240509T153000
DTEND;TZID=US/Central:20240509T180000
DTSTAMP:20260419T183012Z
UID:abf77ac766ca43cd93e1ae563c13961a@saas_stack_varnish:6080
CREATED:20230912T154333Z
DESCRIPTION:AR Testing is available for Ann Whitney Elementary and Hamilto
 n Junior High students from 3:30 PM to 6:00 PM every Tuesday through Frida
 y. All testing will be monitored by trained staff and volunteers.
LAST-MODIFIED:20251030T193801Z
URL:https://hamilton.ploud.net/lib-cal/copy_of_ar-testing-hpl-1/2024-05-09
END:VEVENT
BEGIN:VTIMEZONE
TZID:US/Central
X-LIC-LOCATION:US/Central
BEGIN:DAYLIGHT
DTSTART:20240310T030000
TZNAME:CDT
TZOFFSETFROM:-0600
TZOFFSETTO:-0500
END:DAYLIGHT
END:VTIMEZONE
END:VCALENDAR
