BEGIN:VCALENDAR
VERSION:2.0
PRODID:-//Plone.org//NONSGML plone.app.event//EN
X-WR-TIMEZONE:US/Central
BEGIN:VEVENT
SUMMARY:AR Testing After School @ HPL
DTSTART;TZID=US/Central:20240109T153000
DTEND;TZID=US/Central:20240109T180000
DTSTAMP:20260419T194850Z
UID:abf77ac766ca43cd93e1ae563c13961a@saas_stack_varnish:6080
RRULE:FREQ=WEEKLY;UNTIL=20240510T000000;BYDAY=TU,WE,TH,FR
EXDATE;TZID=US/Central:20230901T000000,20231122T000000,20231123T000000,202
 31124T000000,20240312T000000,20240313T000000,20240314T000000,20240315T0000
 00,20240329T000000
CREATED:20230912T154333Z
DESCRIPTION:AR Testing is available for Ann Whitney Elementary and Hamilto
 n Junior High students from 3:30 PM to 6:00 PM every Tuesday through Frida
 y. All testing will be monitored by trained staff and volunteers.
LAST-MODIFIED:20251030T193801Z
URL:https://hamilton.ploud.net/lib-cal/copy_of_ar-testing-hpl-1
END:VEVENT
BEGIN:VTIMEZONE
TZID:US/Central
X-LIC-LOCATION:US/Central
BEGIN:STANDARD
DTSTART:20231105T010000
TZNAME:CST
TZOFFSETFROM:-0500
TZOFFSETTO:-0600
END:STANDARD
END:VTIMEZONE
END:VCALENDAR
