BEGIN:VCALENDAR
VERSION:2.0
PRODID:-//Plone.org//NONSGML plone.app.event//EN
X-WR-TIMEZONE:US/Central
BEGIN:VEVENT
SUMMARY:Book Club at the Library
DTSTART;TZID=US/Central:20240528T170000
DTEND;TZID=US/Central:20240528T180000
DTSTAMP:20260419T165232Z
UID:c6770d13e44c4740835318bfa85211e6@saas_stack_varnish:6080
CREATED:20231206T151153Z
DESCRIPTION:HPL Book Club meets the Last Tuesday of the month. Book Club i
 s led by Brittany Davis.
LAST-MODIFIED:20251030T193801Z
LOCATION:Teague Conference Center
URL:https://hamilton.ploud.net/lib-cal/copy_of_book-club-at-the-library-10
 /2024-05-28
END:VEVENT
BEGIN:VTIMEZONE
TZID:US/Central
X-LIC-LOCATION:US/Central
BEGIN:DAYLIGHT
DTSTART:20240310T030000
TZNAME:CDT
TZOFFSETFROM:-0600
TZOFFSETTO:-0500
END:DAYLIGHT
END:VTIMEZONE
END:VCALENDAR
