BEGIN:VCALENDAR
VERSION:2.0
PRODID:-//Plone.org//NONSGML plone.app.event//EN
X-WR-TIMEZONE:US/Central
BEGIN:VEVENT
SUMMARY:Holistic Health & Fitness Classes
DTSTART;TZID=US/Central:20231012T103000
DTEND;TZID=US/Central:20231012T113000
DTSTAMP:20260419T185353Z
UID:5e53e3756b55482fab2aba35fb8b65a5@saas_stack_varnish:6080
RRULE:FREQ=WEEKLY;UNTIL=20240530T000000;BYDAY=TH
EXDATE;TZID=US/Central:20231116T000000,20231123T000000,20240208T000000
CREATED:20231005T202535Z
DESCRIPTION:2 p.m. Tuesdays & 10:30 a.m. Thursdays. Led by Jon Hodge\, Cer
 tified Master Instructor. Tai Chi\, Qi gong\, Energy\, Yoga\, Meditation\,
  Healing. Be sure to bring your own yoga mat.
LAST-MODIFIED:20251030T193800Z
LOCATION:Teague Conference Center
URL:https://hamilton.ploud.net/lib-cal/copy_of_holistic-health-fitness-cla
 sses-1
END:VEVENT
BEGIN:VTIMEZONE
TZID:US/Central
X-LIC-LOCATION:US/Central
BEGIN:DAYLIGHT
DTSTART:20230312T030000
TZNAME:CDT
TZOFFSETFROM:-0600
TZOFFSETTO:-0500
END:DAYLIGHT
END:VTIMEZONE
END:VCALENDAR
