BEGIN:VCALENDAR
VERSION:2.0
PRODID:-//Plone.org//NONSGML plone.app.event//EN
X-WR-TIMEZONE:US/Central
BEGIN:VEVENT
SUMMARY:Friends of the Library Meeting
DTSTART;TZID=US/Central:20230126T170000
DTEND;TZID=US/Central:20230126T180000
DTSTAMP:20260419T151417Z
UID:92a4d7dd7a6b44748e4711db62f404c7@saas_stack_varnish:6080
CREATED:20230207T182618Z
DESCRIPTION:The Friends of the Hamilton Public Library is a non-profit vol
 unteer organization dedicated to active fundraising for the Hamilton Publi
 c Library. Join us for our monthly meeting on Thursday\, January 26th at 5
  pm in the Teague Conference Center. Learn more about our mission and 2023
  support initiatives!
LAST-MODIFIED:20251030T193754Z
LOCATION:Teague Conference Center
URL:https://hamilton.ploud.net/lib-cal/friends-of-the-library-meeting-12
END:VEVENT
BEGIN:VTIMEZONE
TZID:US/Central
X-LIC-LOCATION:US/Central
BEGIN:STANDARD
DTSTART:20221106T010000
TZNAME:CST
TZOFFSETFROM:-0500
TZOFFSETTO:-0600
END:STANDARD
END:VTIMEZONE
END:VCALENDAR
