BEGIN:VCALENDAR
VERSION:2.0
PRODID:-//Plone.org//NONSGML plone.app.event//EN
X-WR-TIMEZONE:US/Central
BEGIN:VEVENT
SUMMARY:Friends of the Library Meeting
DTSTART;TZID=US/Central:20230420T170000
DTEND;TZID=US/Central:20230420T180000
DTSTAMP:20260421T114725Z
UID:170c583c98b54ddd9244ecbd33064768@saas_stack_varnish:6080
CREATED:20230207T181408Z
DESCRIPTION:The Friends of the Hamilton Public Library is a non-profit vol
 unteer organization dedicated to active fundraising for the Hamilton Publi
 c Library. Join us for our monthly meeting on Thursday\, April 20th at 5 p
 m in the Teague Conference Center.
LAST-MODIFIED:20251030T193754Z
LOCATION:Teague Conference Center
URL:https://hamilton.ploud.net/lib-cal/friends-of-the-library-meeting-3
END:VEVENT
BEGIN:VTIMEZONE
TZID:US/Central
X-LIC-LOCATION:US/Central
BEGIN:DAYLIGHT
DTSTART:20230312T030000
TZNAME:CDT
TZOFFSETFROM:-0600
TZOFFSETTO:-0500
END:DAYLIGHT
END:VTIMEZONE
END:VCALENDAR
