BEGIN:VCALENDAR
VERSION:2.0
PRODID:-//Plone.org//NONSGML plone.app.event//EN
X-WR-TIMEZONE:US/Central
BEGIN:VEVENT
SUMMARY:Friends of the Library Meeting
DTSTART;TZID=US/Central:20230824T170000
DTEND;TZID=US/Central:20230824T180000
DTSTAMP:20260423T154519Z
UID:a648cffa05ba4d25ba4dbe4eeadb90ad@saas_stack_varnish:6080
CREATED:20230207T181744Z
DESCRIPTION:The Friends of the Hamilton Public Library is a non-profit vol
 unteer organization dedicated to active fundraising for the Hamilton Publi
 c Library. Join us for our monthly meeting on Thursday\, August 24th at 5 
 pm in the Teague Conference Center.
LAST-MODIFIED:20251030T193754Z
LOCATION:Teague Conference Center
URL:https://hamilton.ploud.net/lib-cal/friends-of-the-library-meeting-7
END:VEVENT
BEGIN:VTIMEZONE
TZID:US/Central
X-LIC-LOCATION:US/Central
BEGIN:DAYLIGHT
DTSTART:20230312T030000
TZNAME:CDT
TZOFFSETFROM:-0600
TZOFFSETTO:-0500
END:DAYLIGHT
END:VTIMEZONE
END:VCALENDAR
