BEGIN:VCALENDAR
VERSION:2.0
PRODID:-//Plone.org//NONSGML plone.app.event//EN
X-WR-TIMEZONE:US/Central
BEGIN:VEVENT
SUMMARY:Oral History Interviews & Recordings
DTSTART;TZID=US/Central:20240718T103000
DTEND;TZID=US/Central:20240718T120000
DTSTAMP:20260421T114217Z
UID:2099f73ee2cc42629480026c581ae762@saas_stack_varnish:6080
CONTACT:Stacey Moore\, 2543863474\, stacey.hamiltonlibrary@gmail.com
CREATED:20240418T184747Z
DESCRIPTION:The Hamilton Public Library Genealogy Center's next program\, 
 “Oral History Interviews & Recordings” will be on Thursday\, July 18th
 . We will have two sessions: 10:30 am to 12:00 noon or 5:30 pm to 7:00 pm 
 in the Hamilton Public Library Genealogy Center. You will learn effective 
 strategies for conducting oral history interviews and become familiar with
  using the Library’s Spring Oral History Recording Studio.\nDue to the l
 imited seating\, attendance will be limited to 12 for each session and the
 re is a $25 registration fee for the use of the technology.  \nPlease visi
 t the Hamilton Public Library to complete your registration. The Library
 ’s hours are Tuesday – Friday from 10:00 am to 6:00 pm.
LAST-MODIFIED:20251030T193802Z
LOCATION:Hamilton Public Library Genealogy Center
URL:https://hamilton.ploud.net/lib-cal/genealogy-oral-history-class
END:VEVENT
BEGIN:VTIMEZONE
TZID:US/Central
X-LIC-LOCATION:US/Central
BEGIN:DAYLIGHT
DTSTART:20240310T030000
TZNAME:CDT
TZOFFSETFROM:-0600
TZOFFSETTO:-0500
END:DAYLIGHT
END:VTIMEZONE
END:VCALENDAR
