BEGIN:VCALENDAR
VERSION:2.0
PRODID:-//Plone.org//NONSGML plone.app.event//EN
X-WR-TIMEZONE:US/Central
BEGIN:VEVENT
SUMMARY:Hamilton Community Health & Wellness Fair
DTSTART;TZID=US/Central:20221117T080000
DTEND;TZID=US/Central:20221117T120000
DTSTAMP:20260421T085045Z
UID:306e18269f664711983f8074cb8387cc@saas_stack_varnish:6080
CREATED:20221101T173039Z
LAST-MODIFIED:20251030T193752Z
URL:https://hamilton.ploud.net/lib-cal/hamilton-community-health-wellness-
 fair
END:VEVENT
BEGIN:VTIMEZONE
TZID:US/Central
X-LIC-LOCATION:US/Central
BEGIN:STANDARD
DTSTART:20221106T010000
TZNAME:CST
TZOFFSETFROM:-0500
TZOFFSETTO:-0600
END:STANDARD
END:VTIMEZONE
END:VCALENDAR
