BEGIN:VCALENDAR
VERSION:2.0
PRODID:-//Plone.org//NONSGML plone.app.event//EN
X-WR-TIMEZONE:US/Central
BEGIN:VEVENT
SUMMARY:Hamilton Public Library Annual Book Sale
DTSTART;TZID=US/Central:20240426T120000
DTEND;TZID=US/Central:20240426T170000
DTSTAMP:20260421T131714Z
UID:ecc382bde8c44392ac015821ff30c578@saas_stack_varnish:6080
CREATED:20240314T143902Z
DESCRIPTION:Friday\, April 26th: 12 - 5 pm. Saturday\, April 27th: 8 am - 
 2 pm. Saturday Only: Breakfast Tacos from The Lions Club. Hosted by Friend
 s of the Hamilton Public Library
LAST-MODIFIED:20251030T193801Z
LOCATION:Teague Conference Center
URL:https://hamilton.ploud.net/lib-cal/hamilton-public-library-annual-book
 -sale
END:VEVENT
BEGIN:VTIMEZONE
TZID:US/Central
X-LIC-LOCATION:US/Central
BEGIN:DAYLIGHT
DTSTART:20240310T030000
TZNAME:CDT
TZOFFSETFROM:-0600
TZOFFSETTO:-0500
END:DAYLIGHT
END:VTIMEZONE
END:VCALENDAR
