BEGIN:VCALENDAR
VERSION:2.0
PRODID:-//Plone.org//NONSGML plone.app.event//EN
X-WR-TIMEZONE:US/Central
BEGIN:VEVENT
SUMMARY:Hands Only CPR
DTSTART;TZID=US/Central:20260423T171500
DTEND;TZID=US/Central:20260423T181500
DTSTAMP:20260423T115020Z
UID:67435b5a3b3e42068b5830371e36b052@saas_stack_varnish:6080
CREATED:20260416T215632Z
DESCRIPTION:Learn this lifesaving skill or brush up on your technique with
  CPR Instructor Andy Roberts. This is a FREE class.
LAST-MODIFIED:20260422T135651Z
LOCATION:Teague Conference Center
URL:https://hamilton.ploud.net/lib-cal/hands-only-cpr
END:VEVENT
BEGIN:VTIMEZONE
TZID:US/Central
X-LIC-LOCATION:US/Central
BEGIN:DAYLIGHT
DTSTART:20260308T030000
TZNAME:CDT
TZOFFSETFROM:-0600
TZOFFSETTO:-0500
END:DAYLIGHT
END:VTIMEZONE
END:VCALENDAR
