BEGIN:VCALENDAR
VERSION:2.0
PRODID:-//Plone.org//NONSGML plone.app.event//EN
X-WR-TIMEZONE:US/Central
BEGIN:VEVENT
SUMMARY:Holistic Health & Fitness Classes
DTSTART;TZID=US/Central:20240528T140000
DTEND;TZID=US/Central:20240528T150000
DTSTAMP:20260419T165258Z
UID:37104a6aa3cf4d5eafb2bf348cdaff95@saas_stack_varnish:6080
CREATED:20231005T202535Z
DESCRIPTION:2 p.m. Tuesdays & 10:30 a.m. Thursdays. Led by Jon Hodge\, Cer
 tified Master Instructor. Tai Chi\, Qi gong\, Energy\, Yoga\, Meditation\,
  Healing. Be sure to bring your own yoga mat.
LAST-MODIFIED:20251030T193800Z
LOCATION:Teague Conference Center
URL:https://hamilton.ploud.net/lib-cal/holistic-health-fitness-classes-1/2
 024-05-28
END:VEVENT
BEGIN:VTIMEZONE
TZID:US/Central
X-LIC-LOCATION:US/Central
BEGIN:DAYLIGHT
DTSTART:20240310T030000
TZNAME:CDT
TZOFFSETFROM:-0600
TZOFFSETTO:-0500
END:DAYLIGHT
END:VTIMEZONE
END:VCALENDAR
