BEGIN:VCALENDAR
VERSION:2.0
PRODID:-//Plone.org//NONSGML plone.app.event//EN
X-WR-TIMEZONE:US/Central
BEGIN:VEVENT
SUMMARY:Lego Robotics IB
DTSTART;TZID=US/Central:20250612T140000
DTEND;TZID=US/Central:20250612T160000
DTSTAMP:20260421T114145Z
UID:f53e8138cc51401f894e52cdfb7526b7@saas_stack_varnish:6080
CONTACT:Stacey Moore
CREATED:20250501T185429Z
DESCRIPTION:Build LEGO designs and program them to move! Thursday\, June 1
 2th or Thursday\, July 24th\, 2 - 4 pm. Ages 8-10. Campers must have atten
 ded LEGO Robotics I in 2024 or 2025. Pre-registration is REQUIRED. Registr
 ation fee $10/camper. Registration is available only at the library beginn
 ing May 20th. 1st Come\; 1st Serve.
LAST-MODIFIED:20251030T193806Z
LOCATION:Teague Conference Center
URL:https://hamilton.ploud.net/lib-cal/lego-robotics-ib
END:VEVENT
BEGIN:VTIMEZONE
TZID:US/Central
X-LIC-LOCATION:US/Central
BEGIN:DAYLIGHT
DTSTART:20250309T030000
TZNAME:CDT
TZOFFSETFROM:-0600
TZOFFSETTO:-0500
END:DAYLIGHT
END:VTIMEZONE
END:VCALENDAR
