BEGIN:VCALENDAR
VERSION:2.0
PRODID:-//Plone.org//NONSGML plone.app.event//EN
X-WR-TIMEZONE:US/Central
BEGIN:VEVENT
SUMMARY:Library Summer Camp
DTSTART;TZID=US/Central:20250626T090000
DTEND;TZID=US/Central:20250626T120000
DTSTAMP:20260419T145035Z
UID:64b853be1ba84de3b355fd81c417e4a1@saas_stack_varnish:6080
CREATED:20250430T212600Z
DESCRIPTION:June 24-27. 9 am - 12 noon. Ages 6-11. Arts & Crafts. Activiti
 es. Stories. Games.
LAST-MODIFIED:20251030T193806Z
URL:https://hamilton.ploud.net/lib-cal/library-summer-camp/2025-06-26
END:VEVENT
BEGIN:VTIMEZONE
TZID:US/Central
X-LIC-LOCATION:US/Central
BEGIN:DAYLIGHT
DTSTART:20250309T030000
TZNAME:CDT
TZOFFSETFROM:-0600
TZOFFSETTO:-0500
END:DAYLIGHT
END:VTIMEZONE
END:VCALENDAR
