BEGIN:VCALENDAR
VERSION:2.0
PRODID:-//Plone.org//NONSGML plone.app.event//EN
X-WR-TIMEZONE:US/Central
BEGIN:VEVENT
SUMMARY:Mahjong Club
DTSTART;TZID=US/Central:20230613T100000
DTEND;TZID=US/Central:20230613T120000
DTSTAMP:20260421T194049Z
UID:2c74d2c0be70457d95b1d1942cf5bf36@saas_stack_varnish:6080
CREATED:20230504T195417Z
DESCRIPTION:Every Tuesday @ the Library. 10 am - 12 noon. Come learn the b
 asics of mahjong\, improve your skills\, and meet fellow players! Led by J
 eri Lee Tulley.
LAST-MODIFIED:20251030T193755Z
URL:https://hamilton.ploud.net/lib-cal/mahjong-club/2023-06-13
END:VEVENT
BEGIN:VTIMEZONE
TZID:US/Central
X-LIC-LOCATION:US/Central
BEGIN:DAYLIGHT
DTSTART:20230312T030000
TZNAME:CDT
TZOFFSETFROM:-0600
TZOFFSETTO:-0500
END:DAYLIGHT
END:VTIMEZONE
END:VCALENDAR
