BEGIN:VCALENDAR
VERSION:2.0
PRODID:-//Plone.org//NONSGML plone.app.event//EN
X-WR-TIMEZONE:US/Central
BEGIN:VEVENT
SUMMARY:Online Library Summer Camp Registration Now Open
DTSTART;VALUE=DATE:20250530
DTEND;VALUE=DATE:20250531
DTSTAMP:20260421T114531Z
UID:df1f2ce53ee843bc98b53d376529021a@saas_stack_varnish:6080
CONTACT:https://forms.gle/Po2GkvgHhyawdNsA7
CREATED:20250430T210259Z
DESCRIPTION:Register online now for Library Summer Camp. June 24-27. 9 am 
 - 12 noon. Ages 6-11. A $5 registration fee\, per child\, required in adva
 nce to guarantee camp enrollment. Last Day to Register: May 30.
LAST-MODIFIED:20251030T193806Z
URL:https://hamilton.ploud.net/lib-cal/online-library-summer-camp-registra
 tion-opens/2025-05-30
END:VEVENT
END:VCALENDAR
