BEGIN:VCALENDAR
VERSION:2.0
PRODID:-//Plone.org//NONSGML plone.app.event//EN
X-WR-TIMEZONE:US/Central
BEGIN:VEVENT
SUMMARY:SRP Registration Begins
DTSTART;VALUE=DATE:20240418
DTEND;VALUE=DATE:20240419
DTSTAMP:20260425T143351Z
UID:5ba0b2dc03054497bb3f43bc6ae37e3e@saas_stack_varnish:6080
CREATED:20240417T225041Z
DESCRIPTION:Adventure Begins at Your Library Summer Reading Program. June 
 4 – 7. 9 AM – 12 Noon. Ages 6 – 11. Arts & Crafts\, Activities\, Sto
 ries\, Games. Online Registration Opens April 18. A $5 refundable pre-regi
 stration fee\, per child\, must be paid in advance to guarantee SRP enroll
 ment.
LAST-MODIFIED:20251030T193802Z
URL:https://hamilton.ploud.net/lib-cal/srp-registration-begins-1
END:VEVENT
END:VCALENDAR
