BEGIN:VCALENDAR
VERSION:2.0
PRODID:-//Plone.org//NONSGML plone.app.event//EN
X-WR-TIMEZONE:US/Central
BEGIN:VEVENT
SUMMARY:SRP Registration Begins
DTSTART;VALUE=DATE:20230505
DTEND;VALUE=DATE:20230506
DTSTAMP:20260421T114147Z
UID:09a1ab0926524c54945c2cd7edd704b9@saas_stack_varnish:6080
CREATED:20230504T215623Z
DESCRIPTION:Registration is now OPEN for the Summer Reading Program at the
  Hamilton Public Library\, June 20 - 23 from 9 am - 12 noon. The program i
 s designed for children ages 5 - 12. We will have stories\, crafts\, games
 \, snacks\, and activities centered around this year's theme - "A Midsumme
 r Knight's Read". Pre-registration is REQUIRED due to limited number of sp
 aces for each age group. Registration will close June 2nd or when all spac
 es are filled.
LAST-MODIFIED:20251030T193756Z
URL:https://hamilton.ploud.net/lib-cal/srp-registration-begins
END:VEVENT
END:VCALENDAR
