BEGIN:VCALENDAR
VERSION:2.0
PRODID:-//Plone.org//NONSGML plone.app.event//EN
X-WR-TIMEZONE:US/Central
BEGIN:VEVENT
SUMMARY:Story Time at the Public Library
DTSTART;TZID=US/Central:20240529T100000
DTEND;TZID=US/Central:20240529T110000
DTSTAMP:20260419T165149Z
UID:fa0c71af48174c5c874f08a7f96041c6@saas_stack_varnish:6080
CREATED:20240110T200311Z
DESCRIPTION:Interactive Play\, Songs\, Music\, Stories\, Rhymes & Crafts. 
 Story Time 10 am Wednesdays
LAST-MODIFIED:20251030T193801Z
LOCATION:Hamilton County Abstract Children's Library
URL:https://hamilton.ploud.net/lib-cal/story-time-at-the-public-library/20
 24-05-29
END:VEVENT
BEGIN:VTIMEZONE
TZID:US/Central
X-LIC-LOCATION:US/Central
BEGIN:DAYLIGHT
DTSTART:20240310T030000
TZNAME:CDT
TZOFFSETFROM:-0600
TZOFFSETTO:-0500
END:DAYLIGHT
END:VTIMEZONE
END:VCALENDAR
