BEGIN:VCALENDAR
VERSION:2.0
PRODID:-//Plone.org//NONSGML plone.app.event//EN
X-WR-TIMEZONE:US/Central
BEGIN:VEVENT
SUMMARY:Story Time at the Public Library
DTSTART;TZID=US/Central:20240103T100000
DTEND;TZID=US/Central:20240103T110000
DTSTAMP:20260419T183613Z
UID:fa0c71af48174c5c874f08a7f96041c6@saas_stack_varnish:6080
RRULE:FREQ=WEEKLY;UNTIL=20240529T000000;BYDAY=WE
CREATED:20240110T200311Z
DESCRIPTION:Interactive Play\, Songs\, Music\, Stories\, Rhymes & Crafts. 
 Story Time 10 am Wednesdays
LAST-MODIFIED:20251030T193801Z
LOCATION:Hamilton County Abstract Children's Library
URL:https://hamilton.ploud.net/lib-cal/story-time-at-the-public-library
END:VEVENT
BEGIN:VTIMEZONE
TZID:US/Central
X-LIC-LOCATION:US/Central
BEGIN:STANDARD
DTSTART:20231105T010000
TZNAME:CST
TZOFFSETFROM:-0500
TZOFFSETTO:-0600
END:STANDARD
END:VTIMEZONE
END:VCALENDAR
