BEGIN:VCALENDAR
VERSION:2.0
PRODID:-//Plone.org//NONSGML plone.app.event//EN
X-WR-TIMEZONE:US/Central
BEGIN:VEVENT
SUMMARY:Summer AR Testing PM Only
DTSTART;TZID=US/Central:20240604T130000
DTEND;TZID=US/Central:20240604T180000
DTSTAMP:20260419T164630Z
UID:d21ec3351f354e1aa2a7ee1c8becccf0@saas_stack_varnish:6080
RRULE:FREQ=DAILY;COUNT=4
CREATED:20240418T183032Z
DESCRIPTION:AR Testing is available from 1 pm - 6 pm ONLY.
LAST-MODIFIED:20251030T193802Z
URL:https://hamilton.ploud.net/lib-cal/summer-ar-testing-pm-only-1
END:VEVENT
BEGIN:VTIMEZONE
TZID:US/Central
X-LIC-LOCATION:US/Central
BEGIN:DAYLIGHT
DTSTART:20240310T030000
TZNAME:CDT
TZOFFSETFROM:-0600
TZOFFSETTO:-0500
END:DAYLIGHT
END:VTIMEZONE
END:VCALENDAR
