BEGIN:VCALENDAR
VERSION:2.0
PRODID:-//Plone.org//NONSGML plone.app.event//EN
X-WR-TIMEZONE:US/Central
BEGIN:VEVENT
SUMMARY:Summer AR Testing
DTSTART;TZID=US/Central:20230601T100000
DTEND;TZID=US/Central:20230601T180000
DTSTAMP:20260421T163444Z
UID:0e0ddc354758418d992f7f6ccb7e30be@saas_stack_varnish:6080
CREATED:20230504T214412Z
DESCRIPTION:AWE and HJH students will be able to AR test every Tuesday thr
 ough Friday from 10 am to 6 pm.
LAST-MODIFIED:20251030T193756Z
URL:https://hamilton.ploud.net/lib-cal/summer-ar-testing/2023-06-01
END:VEVENT
BEGIN:VTIMEZONE
TZID:US/Central
X-LIC-LOCATION:US/Central
BEGIN:DAYLIGHT
DTSTART:20230312T030000
TZNAME:CDT
TZOFFSETFROM:-0600
TZOFFSETTO:-0500
END:DAYLIGHT
END:VTIMEZONE
END:VCALENDAR
