BEGIN:VCALENDAR
VERSION:2.0
PRODID:-//Plone.org//NONSGML plone.app.event//EN
X-WR-TIMEZONE:US/Central
BEGIN:VEVENT
SUMMARY:Summer Reading Program
DTSTART;TZID=US/Central:20240604T090000
DTEND;TZID=US/Central:20240604T120000
DTSTAMP:20260419T164511Z
UID:6000dc17352e4689a761068e138b6787@saas_stack_varnish:6080
RRULE:FREQ=DAILY;COUNT=4
CREATED:20240418T181652Z
DESCRIPTION:Adventure Begins at Your Library Summer Reading Program. June 
 4 – 7. 9 AM – 12 Noon. Ages 6 – 11. Arts & Crafts\, Activities\, Sto
 ries\, Games. Pre-registration is REQUIRED due to limited number of spaces
  for each age group.
LAST-MODIFIED:20251030T193802Z
URL:https://hamilton.ploud.net/lib-cal/summer-reading-program-5
END:VEVENT
BEGIN:VTIMEZONE
TZID:US/Central
X-LIC-LOCATION:US/Central
BEGIN:DAYLIGHT
DTSTART:20240310T030000
TZNAME:CDT
TZOFFSETFROM:-0600
TZOFFSETTO:-0500
END:DAYLIGHT
END:VTIMEZONE
END:VCALENDAR
