BEGIN:VCALENDAR
VERSION:2.0
PRODID:-//Plone.org//NONSGML plone.app.event//EN
X-WR-TIMEZONE:US/Central
BEGIN:VEVENT
SUMMARY:Summer STEM - Ozobot I
DTSTART;TZID=US/Central:20240613T140000
DTEND;TZID=US/Central:20240613T160000
DTSTAMP:20260423T084936Z
UID:51568697ce2547e683488daeab36f813@saas_stack_varnish:6080
CREATED:20240418T184052Z
DESCRIPTION:Ages 6-8. Pre-registration is required with a non-refundable r
 egistration fee of $10 per camp.
LAST-MODIFIED:20251030T193802Z
URL:https://hamilton.ploud.net/lib-cal/summer-stem-ozobot-i
END:VEVENT
BEGIN:VTIMEZONE
TZID:US/Central
X-LIC-LOCATION:US/Central
BEGIN:DAYLIGHT
DTSTART:20240310T030000
TZNAME:CDT
TZOFFSETFROM:-0600
TZOFFSETTO:-0500
END:DAYLIGHT
END:VTIMEZONE
END:VCALENDAR
