BEGIN:VCALENDAR
VERSION:2.0
PRODID:-//Plone.org//NONSGML plone.app.event//EN
X-WR-TIMEZONE:US/Central
BEGIN:VEVENT
SUMMARY:Teen Book Club - Teen Time Tuesdays at the Library!
DTSTART;TZID=US/Central:20250610T170000
DTEND;TZID=US/Central:20250610T180000
DTSTAMP:20260421T115135Z
UID:9cbda38caf954f158e170b099cc86ec3@saas_stack_varnish:6080
CREATED:20250610T174828Z
DESCRIPTION:Join us this summer for a fun book club! We'll explore amazing
  stories while participating in exciting competitions and creative challen
 ges. Enjoy lively discussions and activities\, while making new friends! W
 hether you love reading or just want to have a good time\, there's somethi
 ng for everyone.
LAST-MODIFIED:20251030T193806Z
URL:https://hamilton.ploud.net/lib-cal/teen-book-club-teen-time-tuesdays-a
 t-the-library
END:VEVENT
BEGIN:VTIMEZONE
TZID:US/Central
X-LIC-LOCATION:US/Central
BEGIN:DAYLIGHT
DTSTART:20250309T030000
TZNAME:CDT
TZOFFSETFROM:-0600
TZOFFSETTO:-0500
END:DAYLIGHT
END:VTIMEZONE
END:VCALENDAR
