BEGIN:VCALENDAR
VERSION:2.0
PRODID:-//Plone.org//NONSGML plone.app.event//EN
X-WR-TIMEZONE:US/Central
BEGIN:VEVENT
SUMMARY:You: Transformed
DTSTART;TZID=US/Central:20240305T183000
DTEND;TZID=US/Central:20240305T200000
DTSTAMP:20260419T181313Z
UID:6bf8cc653fa543059bc1aba32ee600f7@saas_stack_varnish:6080
RRULE:FREQ=WEEKLY;UNTIL=20240528T000000;BYDAY=TU
CREATED:20240213T175247Z
DESCRIPTION:You: Transformed Through Meditation\, Exercise\, Nutrition & K
 nowledge. \n\nLearn the secrets to creating radiant\, lifelong health and 
 happiness\, while experiencing lasting peace of mind resulting in an abund
 ance of harmony and joy in your life. In this course\, you will learn Basi
 c Meditation Practices and how they help heal your body. \n\nJoin us for t
 his FREE 8 week course as we explore and attain a better understanding of 
 how to balance and harmonize our body’s energy for greater health and ha
 ppiness. \n\nClasses Begin March 5 – Every Tuesday Evening (6:30 – 8:0
 0pm) Teague Conference Center
LAST-MODIFIED:20251030T193801Z
LOCATION:Teague Conference Center
URL:https://hamilton.ploud.net/lib-cal/you-transformed
END:VEVENT
BEGIN:VTIMEZONE
TZID:US/Central
X-LIC-LOCATION:US/Central
BEGIN:STANDARD
DTSTART:20231105T010000
TZNAME:CST
TZOFFSETFROM:-0500
TZOFFSETTO:-0600
END:STANDARD
END:VTIMEZONE
END:VCALENDAR
